BEGIN:VCALENDAR
VERSION:2.0
PRODID:-//Norwood Historical Society - ECPv6.15.17.1//NONSGML v1.0//EN
CALSCALE:GREGORIAN
METHOD:PUBLISH
X-ORIGINAL-URL:https://norwoodhistoricalsociety.org
X-WR-CALDESC:Events for Norwood Historical Society
REFRESH-INTERVAL;VALUE=DURATION:PT1H
X-Robots-Tag:noindex
X-PUBLISHED-TTL:PT1H
BEGIN:VTIMEZONE
TZID:America/New_York
BEGIN:DAYLIGHT
TZOFFSETFROM:-0500
TZOFFSETTO:-0400
TZNAME:EDT
DTSTART:20240310T070000
END:DAYLIGHT
BEGIN:STANDARD
TZOFFSETFROM:-0400
TZOFFSETTO:-0500
TZNAME:EST
DTSTART:20241103T060000
END:STANDARD
BEGIN:DAYLIGHT
TZOFFSETFROM:-0500
TZOFFSETTO:-0400
TZNAME:EDT
DTSTART:20250309T070000
END:DAYLIGHT
BEGIN:STANDARD
TZOFFSETFROM:-0400
TZOFFSETTO:-0500
TZNAME:EST
DTSTART:20251102T060000
END:STANDARD
BEGIN:DAYLIGHT
TZOFFSETFROM:-0500
TZOFFSETTO:-0400
TZNAME:EDT
DTSTART:20260308T070000
END:DAYLIGHT
BEGIN:STANDARD
TZOFFSETFROM:-0400
TZOFFSETTO:-0500
TZNAME:EST
DTSTART:20261101T060000
END:STANDARD
END:VTIMEZONE
BEGIN:VEVENT
DTSTART;TZID=America/New_York:20250713T130000
DTEND;TZID=America/New_York:20250713T150000
DTSTAMP:20260420T045733
CREATED:20250515T174932Z
LAST-MODIFIED:20250515T174936Z
UID:64524-1752411600-1752418800@norwoodhistoricalsociety.org
SUMMARY:Guided Tour of the Day House - July 13\, 2025
DESCRIPTION:As the nation embarks on 250th anniversary celebrations of the American Revolution\, now is the perfect time to deepen our appreciation of this period in U.S. history and the role Massachusetts citizens played in overthrowing British rule. We know the storybook tale of a shot heard round the world\, the story of Aaron Guild leaving … Continue reading Expanding Perspectives on the American Revolution Share this:\n				Share on X (Opens in new window)\n				X\n			\n				Share on Facebook (Opens in new window)\n				Facebook\n			\n				Print (Opens in new window)\n				Print\n			\n				Share on LinkedIn (Opens in new window)\n				LinkedIn\n			\n				Share on Reddit (Opens in new window)\n				Reddit\n			\n				Share on Pinterest (Opens in new window)\n				Pinterest\n			\n				Share on Telegram (Opens in new window)\n				Telegram\n			\n				Share on WhatsApp (Opens in new window)\n				WhatsApp\n			\n				Email a link to a friend (Opens in new window)\n				Email\n			Like this:Like Loading...
URL:https://norwoodhistoricalsociety.org/event/guided-tour-of-the-day-house-july-13-2025/
LOCATION:F Holland Day House\, 93 Day Street\, Norwood\, MA\, 02062\, United States
CATEGORIES:house tour
ATTACH;FMTTYPE=image/jpeg:https://norwoodhistoricalsociety.org/wp-content/uploads/2024/07/CPC-Norwood-Historical-Society-Day-House-compressed_12.jpg
ORGANIZER;CN="Norwood Historical Society":MAILTO:info@norwoodhistoricalsociety.org
END:VEVENT
BEGIN:VEVENT
DTSTART;TZID=America/New_York:20250727T130000
DTEND;TZID=America/New_York:20250727T150000
DTSTAMP:20260420T045733
CREATED:20250515T175257Z
LAST-MODIFIED:20250515T175328Z
UID:64520-1753621200-1753628400@norwoodhistoricalsociety.org
SUMMARY:Guided Tour of the Day House - July 27\, 2025
DESCRIPTION:As the nation embarks on 250th anniversary celebrations of the American Revolution\, now is the perfect time to deepen our appreciation of this period in U.S. history and the role Massachusetts citizens played in overthrowing British rule. We know the storybook tale of a shot heard round the world\, the story of Aaron Guild leaving … Continue reading Expanding Perspectives on the American Revolution Share this:\n				Share on X (Opens in new window)\n				X\n			\n				Share on Facebook (Opens in new window)\n				Facebook\n			\n				Print (Opens in new window)\n				Print\n			\n				Share on LinkedIn (Opens in new window)\n				LinkedIn\n			\n				Share on Reddit (Opens in new window)\n				Reddit\n			\n				Share on Pinterest (Opens in new window)\n				Pinterest\n			\n				Share on Telegram (Opens in new window)\n				Telegram\n			\n				Share on WhatsApp (Opens in new window)\n				WhatsApp\n			\n				Email a link to a friend (Opens in new window)\n				Email\n			Like this:Like Loading...
URL:https://norwoodhistoricalsociety.org/event/guided-tour-of-the-day-house-july-27-2025/
LOCATION:F Holland Day House\, 93 Day Street\, Norwood\, MA\, 02062\, United States
ATTACH;FMTTYPE=image/png:https://norwoodhistoricalsociety.org/wp-content/uploads/2024/07/Day-House-tour.png
ORGANIZER;CN="Norwood Historical Society":MAILTO:info@norwoodhistoricalsociety.org
END:VEVENT
END:VCALENDAR